BEGIN:VCALENDAR
VERSION:2.0
PRODID:-//eventon.com NONSGML v1.0//EN
CALSCALE:GREGORIAN
METHOD:PUBLISH
BEGIN:VEVENT
UID:69e601180851a
DTSTAMP:20260420T103400Z
DTSTART:20260530T160000Z
DTEND:20260531T000000Z
LOCATION:San Damiano Retreat Center 710 Highland Dr\,  Danville\,  CA 94526
SUMMARY:A Day of Grace - A Contemplative Prayer Experience
DESCRIPTION:A Day of Grace A Contemplative Prayer Experience San Damiano Re
 treat Center A day of reﬂection\,  renewal\,  and learning for experience
 d and new practitioners and leaders Led by Michael Cunningham\,  OFS Execut
 ive Director\,  San Damiano Retreat Center Steve West. East Bay Contemplati
 ve Outreach About This Day This retreat brings together[..]\nhttps://sandam
 iano.org/events/a-day-of-grace-a-contemplative-prayer-experience/
URL:https://sandamiano.org/events/a-day-of-grace-a-contemplative-prayer-experience/
END:VEVENT
END:VCALENDAR