BEGIN:VCALENDAR
VERSION:2.0
PRODID:-//eventon.com NONSGML v1.0//EN
CALSCALE:GREGORIAN
METHOD:PUBLISH
BEGIN:VEVENT
UID:69e73611afb96
DTSTAMP:20260421T083217Z
DTSTART:20260422T000000Z
DTEND:20260422T013000Z
LOCATION:Zoom Online
SUMMARY:Healing Oils & Other Natural Solutions: Ancient Wisdom for Modern Wellness
DESCRIPTION:Healing Oils &amp; Other Natural Solutions: Ancient Wisdom for 
 Modern Wellness ðŸ“…Â  Tuesday\,  April 21\,  2026Â Â  |Â Â  5:00 â€“ 6:30 
 PMÂ Â  |Â Â  Online via San Damiano Retreat Presented by Samantha T. Marie\
 ,  CPT â”€â”€â”€â”€â”€â”€â”€â”€â”€â”€â”€â”€â”€â”€â”€â”€â”€â”€â”€â”€â”€â”€â”
 €â”€â”€â”€â”€â”€â”€â”€â”€â”€â”€â”€â”€â”€â”€â”€â”€â”€â”€â”€â”€â”€â”€â”€â”€â”
 €â”€â”€â”€â”€â”€â”€â”€â”€â”€â”€â”€â”€ Following the sold-out success of our
  January New Year Holistic Wellness Reset\,  we&#8217;re delighted to offer
 [..]\nhttps://sandamiano.org/events/healing-oils-other-natural-solutions-an
 cient-wisdom-for-modern-wellness/
URL:https://sandamiano.org/events/healing-oils-other-natural-solutions-ancient-wisdom-for-modern-wellness/
END:VEVENT
END:VCALENDAR