BEGIN:VCALENDAR
VERSION:2.0
PRODID:-//eventon.com NONSGML v1.0//EN
CALSCALE:GREGORIAN
METHOD:PUBLISH
BEGIN:VEVENT
UID:69e6078335867
DTSTAMP:20260420T110123Z
DTSTART:20260328T163000Z
DTEND:20260328T170000Z
LOCATION:San Damiano Retreat Center 710 Highland Dr\,  Danville\,  CA 94526
SUMMARY:Stations of the Cross - Stations of the Cross channeling our Franciscan Brothers and Sisters (Saturday Morning)
DESCRIPTION:Please join us for this sacred practice of Stations of the Cros
 s on Saturday mornings at 9:30 AM. The Stations of the Cross (or Way of the
  Cross) is a Lenten devotion\,  that commemorates 14 key moments of Jesus&#
 8217; passion and death through prayers and reflection  on his suffering\,
   sacrifice\, [..]\nhttps://sandamiano.org/events/stations-of-the-cross-sta
 tions-of-the-cross-channeling-our-franciscan-brothers-and-sisters-saturday-
 morning/
URL:https://sandamiano.org/events/stations-of-the-cross-stations-of-the-cross-channeling-our-franciscan-brothers-and-sisters-saturday-morning/
END:VEVENT
END:VCALENDAR