BEGIN:VCALENDAR
VERSION:2.0
PRODID:-//eventon.com NONSGML v1.0//EN
CALSCALE:GREGORIAN
METHOD:PUBLISH
BEGIN:VEVENT
UID:69e5f07c1101b
DTSTAMP:20260420T092308Z
DTSTART:20260314T163000Z
DTEND:20260314T170000Z
LOCATION:San Damiano Retreat Center 710 Highland Dr\,  Danville\,  CA 94526
SUMMARY:Stations of the Cross - Everyman's Way of the Cross (Saturday Morning)
DESCRIPTION:Please join us for this sacred practice of Stations of the Cros
 s on Saturday mornings at 9:30 AM. The Stations of the Cross (or Way of the
  Cross) is a Lenten devotion\,  that commemorates 14 key moments of Jesus&#
 8217; passion and death through prayers and reflection  on his suffering\,
   sacrifice\, [..]\nhttps://sandamiano.org/events/stations-of-the-cross-eve
 rymans-way-of-the-cross-saturday-morning/
URL:https://sandamiano.org/events/stations-of-the-cross-everymans-way-of-the-cross-saturday-morning/
END:VEVENT
END:VCALENDAR